BEGIN:VCALENDAR
VERSION:2.0
PRODID:-//HAC Education Foundation - ECPv6.15.20//NONSGML v1.0//EN
CALSCALE:GREGORIAN
METHOD:PUBLISH
X-WR-CALNAME:HAC Education Foundation
X-ORIGINAL-URL:https://callisfoundation.org
X-WR-CALDESC:Events for HAC Education Foundation
REFRESH-INTERVAL;VALUE=DURATION:PT1H
X-Robots-Tag:noindex
X-PUBLISHED-TTL:PT1H
BEGIN:VTIMEZONE
TZID:UTC
BEGIN:STANDARD
TZOFFSETFROM:+0000
TZOFFSETTO:+0000
TZNAME:UTC
DTSTART:20230101T000000
END:STANDARD
END:VTIMEZONE
BEGIN:VEVENT
DTSTART;TZID=UTC:20240324T160000
DTEND;TZID=UTC:20240324T180000
DTSTAMP:20260424T092642
CREATED:20240320T163524Z
LAST-MODIFIED:20240320T163524Z
UID:256-1711296000-1711303200@callisfoundation.org
SUMMARY:Youth to Men Team Building
DESCRIPTION:
URL:https://callisfoundation.org/event/youth-to-men-team-building/
LOCATION:Osborn High School\, 2451 Favor Rd SW\, Marietta\, 30060\, United States
END:VEVENT
END:VCALENDAR