BEGIN:VCALENDAR
VERSION:2.0
PRODID:-//HAC Education Foundation - ECPv6.15.20//NONSGML v1.0//EN
CALSCALE:GREGORIAN
METHOD:PUBLISH
X-WR-CALNAME:HAC Education Foundation
X-ORIGINAL-URL:https://callisfoundation.org
X-WR-CALDESC:Events for HAC Education Foundation
REFRESH-INTERVAL;VALUE=DURATION:PT1H
X-Robots-Tag:noindex
X-PUBLISHED-TTL:PT1H
BEGIN:VTIMEZONE
TZID:America/New_York
BEGIN:DAYLIGHT
TZOFFSETFROM:-0500
TZOFFSETTO:-0400
TZNAME:EDT
DTSTART:20230312T070000
END:DAYLIGHT
BEGIN:STANDARD
TZOFFSETFROM:-0400
TZOFFSETTO:-0500
TZNAME:EST
DTSTART:20231105T060000
END:STANDARD
BEGIN:DAYLIGHT
TZOFFSETFROM:-0500
TZOFFSETTO:-0400
TZNAME:EDT
DTSTART:20240310T070000
END:DAYLIGHT
BEGIN:STANDARD
TZOFFSETFROM:-0400
TZOFFSETTO:-0500
TZNAME:EST
DTSTART:20241103T060000
END:STANDARD
BEGIN:DAYLIGHT
TZOFFSETFROM:-0500
TZOFFSETTO:-0400
TZNAME:EDT
DTSTART:20250309T070000
END:DAYLIGHT
BEGIN:STANDARD
TZOFFSETFROM:-0400
TZOFFSETTO:-0500
TZNAME:EST
DTSTART:20251102T060000
END:STANDARD
BEGIN:DAYLIGHT
TZOFFSETFROM:-0500
TZOFFSETTO:-0400
TZNAME:EDT
DTSTART:20260308T070000
END:DAYLIGHT
BEGIN:STANDARD
TZOFFSETFROM:-0400
TZOFFSETTO:-0500
TZNAME:EST
DTSTART:20261101T060000
END:STANDARD
END:VTIMEZONE
BEGIN:VTIMEZONE
TZID:UTC
BEGIN:STANDARD
TZOFFSETFROM:+0000
TZOFFSETTO:+0000
TZNAME:UTC
DTSTART:20230101T000000
END:STANDARD
END:VTIMEZONE
BEGIN:VEVENT
DTSTART;VALUE=DATE:20250622
DTEND;VALUE=DATE:20250627
DTSTAMP:20260423T185242
CREATED:20250411T014943Z
LAST-MODIFIED:20250411T014943Z
UID:781-1750550400-1750982399@callisfoundation.org
SUMMARY:Free Enterprise Leadership Challenge
DESCRIPTION:Wingate University School of Business\n211 East Wilson Street\nWingate\, NC 28174
URL:https://callisfoundation.org/event/free-enterprise-leadership-challenge/
LOCATION:GA
END:VEVENT
BEGIN:VEVENT
DTSTART;TZID=America/New_York:20250518T160000
DTEND;TZID=America/New_York:20250518T180000
DTSTAMP:20260423T185242
CREATED:20250411T014820Z
LAST-MODIFIED:20250411T014820Z
UID:779-1747584000-1747591200@callisfoundation.org
SUMMARY:Youth to Men Year End Ceremony
DESCRIPTION:
URL:https://callisfoundation.org/event/youth-to-men-year-end-ceremony/
LOCATION:Osborne High School\, 2451 Favor Road\, Marietta\, GA\, 30066\, United States
END:VEVENT
BEGIN:VEVENT
DTSTART;TZID=America/New_York:20250507T140000
DTEND;TZID=America/New_York:20250507T160000
DTSTAMP:20260423T185242
CREATED:20250425T162910Z
LAST-MODIFIED:20250425T162910Z
UID:803-1746626400-1746633600@callisfoundation.org
SUMMARY:Teacher Award Recognition - International Academy of Smyrna
DESCRIPTION:International Academy of Smyrna – Teacher Award Recognition\n2144 S.Cobb Drive SE Smyrna\, Georgia 30080
URL:https://callisfoundation.org/event/teacher-award-recognition-international-academy-of-smyrna/
LOCATION:GA
END:VEVENT
BEGIN:VEVENT
DTSTART;TZID=America/New_York:20250427T153000
DTEND;TZID=America/New_York:20250427T183000
DTSTAMP:20260423T185242
CREATED:20250312T000416Z
LAST-MODIFIED:20250314T154119Z
UID:733-1745767800-1745778600@callisfoundation.org
SUMMARY:Youth To Men Golf Outing & Donor Engagement
DESCRIPTION:Dogwood Golf Club
URL:https://callisfoundation.org/event/youth-to-men-golf-outing-donor-engagement/
LOCATION:4207 Flint Hill Road\, 4207 Flint Hill Road\, Austell\, 30106\, United States
END:VEVENT
BEGIN:VEVENT
DTSTART;TZID=America/New_York:20250415T153000
DTEND;TZID=America/New_York:20250415T163000
DTSTAMP:20260423T185242
CREATED:20250312T000249Z
LAST-MODIFIED:20250312T000249Z
UID:731-1744731000-1744734600@callisfoundation.org
SUMMARY:FBLA - Future Business Leaders of Campbell High
DESCRIPTION:Chapter Meeting 3:30pm
URL:https://callisfoundation.org/event/fbla-future-business-leaders-of-campbell-high/
LOCATION:Campbell High School\, 925 Powder Springs St\, smyrna\, GA\, 30080\, United States
END:VEVENT
BEGIN:VEVENT
DTSTART;TZID=America/New_York:20250413T160000
DTEND;TZID=America/New_York:20250413T180000
DTSTAMP:20260423T185242
CREATED:20250312T000118Z
LAST-MODIFIED:20250312T000118Z
UID:729-1744560000-1744567200@callisfoundation.org
SUMMARY:Youth To Men
DESCRIPTION:Engineering Careers
URL:https://callisfoundation.org/event/youth-to-men-6/
LOCATION:GA
END:VEVENT
BEGIN:VEVENT
DTSTART;TZID=America/New_York:20250405T083000
DTEND;TZID=America/New_York:20250405T110000
DTSTAMP:20260423T185242
CREATED:20250224T174708Z
LAST-MODIFIED:20250224T174708Z
UID:696-1743841800-1743850800@callisfoundation.org
SUMMARY:Willie Hill Park Clean Up Service Project
DESCRIPTION:
URL:https://callisfoundation.org/event/willie-hill-park-clean-up-service-project/
LOCATION:144 Lemon Street\, 144 Lemon Street\, Marietta\, GA\, 30060\, United States
END:VEVENT
BEGIN:VEVENT
DTSTART;TZID=America/New_York:20250401T160000
DTEND;TZID=America/New_York:20250401T180000
DTSTAMP:20260423T185242
CREATED:20250312T000041Z
LAST-MODIFIED:20250312T000041Z
UID:727-1743523200-1743530400@callisfoundation.org
SUMMARY:Youth To Men
DESCRIPTION:Application Deadline for 2025-26 Youth To Men Class
URL:https://callisfoundation.org/event/youth-to-men-5/
LOCATION:GA
END:VEVENT
BEGIN:VEVENT
DTSTART;TZID=America/New_York:20250323T160000
DTEND;TZID=America/New_York:20250323T180000
DTSTAMP:20260423T185242
CREATED:20250311T235955Z
LAST-MODIFIED:20250311T235955Z
UID:725-1742745600-1742752800@callisfoundation.org
SUMMARY:Youth To Men
DESCRIPTION:How to become a Physician and Medical Careers
URL:https://callisfoundation.org/event/youth-to-men-4/
LOCATION:Campbell High School\, 925 Powder Springs St\, smyrna\, GA\, 30080\, United States
END:VEVENT
BEGIN:VEVENT
DTSTART;TZID=America/New_York:20250311T153000
DTEND;TZID=America/New_York:20250311T164500
DTSTAMP:20260423T185242
CREATED:20250224T174413Z
LAST-MODIFIED:20250224T174413Z
UID:693-1741707000-1741711500@callisfoundation.org
SUMMARY:Future Business Leaders\, Chapter Meeting
DESCRIPTION:
URL:https://callisfoundation.org/event/future-business-leaders-chapter-meeting/
LOCATION:Campbell High School\, 925 Powder Springs St\, smyrna\, GA\, 30080\, United States
END:VEVENT
BEGIN:VEVENT
DTSTART;TZID=America/New_York:20250309T160000
DTEND;TZID=America/New_York:20250309T180000
DTSTAMP:20260423T185242
CREATED:20250224T174111Z
LAST-MODIFIED:20250224T174111Z
UID:691-1741536000-1741543200@callisfoundation.org
SUMMARY:Youth To Men Career Day
DESCRIPTION:
URL:https://callisfoundation.org/event/youth-to-men-career-day/
LOCATION:Osborne High School\, 2451 Favor Road\, Marietta\, GA\, 30066\, United States
END:VEVENT
BEGIN:VEVENT
DTSTART;TZID=America/New_York:20250302T160000
DTEND;TZID=America/New_York:20250302T180000
DTSTAMP:20260423T185242
CREATED:20250203T024220Z
LAST-MODIFIED:20250203T024309Z
UID:648-1740931200-1740938400@callisfoundation.org
SUMMARY:Youth To Men
DESCRIPTION:Osborne High School\nLaunch of YTM Applications for STEM Immersion Summer Institute\nLaunch of Applications for 2025-26 Youth To Men mentee class
URL:https://callisfoundation.org/event/youth-to-men-3/
LOCATION:GA
END:VEVENT
BEGIN:VEVENT
DTSTART;TZID=America/New_York:20250227T190000
DTEND;TZID=America/New_York:20250227T201500
DTSTAMP:20260423T185242
CREATED:20250123T155647Z
LAST-MODIFIED:20250123T160019Z
UID:616-1740682800-1740687300@callisfoundation.org
SUMMARY:Black History Month - Zoom Town Hall
DESCRIPTION:Topic: Discussion on the poem “Invictus”\n\nIn partnership with Alpha Phi Alpha Fraternity\,\nYouth To Men / FBLA Campbell High\n\nFacilitated by Carlos Searcy\n\nZoom Info:\n\nMeeting ID: 821 7572 1271\nPasscode: 273081
URL:https://callisfoundation.org/event/black-history-month-zoom-town-hall/
LOCATION:Zoom Call
END:VEVENT
BEGIN:VEVENT
DTSTART;TZID=America/New_York:20250223T160000
DTEND;TZID=America/New_York:20250223T180000
DTSTAMP:20260423T185242
CREATED:20250203T024124Z
LAST-MODIFIED:20250203T024124Z
UID:646-1740326400-1740333600@callisfoundation.org
SUMMARY:Youth To Men
DESCRIPTION:Osborne High School\n4pm to 6pm\nBlack History Month Presentations
URL:https://callisfoundation.org/event/youth-to-men-2/
LOCATION:GA
END:VEVENT
BEGIN:VEVENT
DTSTART;TZID=America/New_York:20250209T160000
DTEND;TZID=America/New_York:20250209T180000
DTSTAMP:20260423T185242
CREATED:20250203T023741Z
LAST-MODIFIED:20250203T023741Z
UID:641-1739116800-1739124000@callisfoundation.org
SUMMARY:Youth To Men
DESCRIPTION:Sunday February 9th\n4pm to 6pm\nOsborne High School\nLaw Enforcement Professions / Meet The Officer
URL:https://callisfoundation.org/event/youth-to-men/
LOCATION:Osborne High School\, 2451 Favor Road\, Marietta\, GA\, 30066\, United States
END:VEVENT
BEGIN:VEVENT
DTSTART;TZID=America/New_York:20250209T153000
DTEND;TZID=America/New_York:20250212T163000
DTSTAMP:20260423T185242
CREATED:20250203T023951Z
LAST-MODIFIED:20250203T023951Z
UID:644-1739115000-1739377800@callisfoundation.org
SUMMARY:Future Business Leaders Week
DESCRIPTION:February 9th through 12th\n3:30pm to 4:30pm\nCampbell High School\nFBLA Week
URL:https://callisfoundation.org/event/future-business-leaders-week/
LOCATION:GA
END:VEVENT
BEGIN:VEVENT
DTSTART;TZID=America/New_York:20250201T090000
DTEND;TZID=America/New_York:20250201T140000
DTSTAMP:20260423T185242
CREATED:20240925T115902Z
LAST-MODIFIED:20240925T120430Z
UID:501-1738400400-1738418400@callisfoundation.org
SUMMARY:HBCU College Fair
DESCRIPTION:
URL:https://callisfoundation.org/event/hbcu-college-fair/
LOCATION:Meadowcreek High School\, 4455 Steve Reynolds Blvd\, Norcross\, GA\, 30093\, United States
END:VEVENT
BEGIN:VEVENT
DTSTART;TZID=America/New_York:20250126T160000
DTEND;TZID=America/New_York:20250126T180000
DTSTAMP:20260423T185242
CREATED:20241213T012658Z
LAST-MODIFIED:20241213T012658Z
UID:587-1737907200-1737914400@callisfoundation.org
SUMMARY:Youth To Men - "Relationship Wellness"
DESCRIPTION:Youth To Men – “Relationship Wellness”
URL:https://callisfoundation.org/event/youth-to-men-relationship-wellness/
LOCATION:Osborn High School\, 2451 Favor Rd SW\, Marietta\, 30060\, United States
END:VEVENT
BEGIN:VEVENT
DTSTART;TZID=America/New_York:20250114T150000
DTEND;TZID=America/New_York:20250114T160000
DTSTAMP:20260423T185242
CREATED:20241213T012533Z
LAST-MODIFIED:20241213T012533Z
UID:585-1736866800-1736870400@callisfoundation.org
SUMMARY:Future Business Leaders - Campbell High
DESCRIPTION:Chapter Meeting – After School
URL:https://callisfoundation.org/event/future-business-leaders-campbell-high/
LOCATION:Future Business Leaders\, Campbell High\, 925 Powder Springs Street SE\, Smyrna\, Georgia
END:VEVENT
BEGIN:VEVENT
DTSTART;TZID=America/New_York:20250111T090000
DTEND;TZID=America/New_York:20250111T110000
DTSTAMP:20260423T185242
CREATED:20241213T012324Z
LAST-MODIFIED:20241213T012324Z
UID:582-1736586000-1736593200@callisfoundation.org
SUMMARY:HACEF 1st Quarter Board Meeting & Planning Session
DESCRIPTION:HACEF 1st Quarter Board Meeting & Planning Session
URL:https://callisfoundation.org/event/hacef-1st-quarter-board-meeting-planning-session/
LOCATION:Willie Hill Conference room\, 250 Howard Street\, Marietta\, Georgia\, 30060
ORGANIZER;CN="HAC Foundation":MAILTO:info@callisfoundation.org
END:VEVENT
BEGIN:VEVENT
DTSTART;TZID=America/New_York:20241215T160000
DTEND;TZID=America/New_York:20241215T180000
DTSTAMP:20260423T185242
CREATED:20241121T202709Z
LAST-MODIFIED:20241121T202709Z
UID:565-1734278400-1734285600@callisfoundation.org
SUMMARY:Cybersecurity And Technology
DESCRIPTION:
URL:https://callisfoundation.org/event/cybersecurity-and-technology/
LOCATION:Osborn High School\, 2451 Favor Rd SW\, Marietta\, 30060\, United States
END:VEVENT
BEGIN:VEVENT
DTSTART;VALUE=DATE:20241210
DTEND;VALUE=DATE:20241211
DTSTAMP:20260423T185242
CREATED:20241121T203122Z
LAST-MODIFIED:20241121T203122Z
UID:567-1733788800-1733875199@callisfoundation.org
SUMMARY:Chapter Meeting
DESCRIPTION:
URL:https://callisfoundation.org/event/chapter-meeting/
LOCATION:Future Business Leaders\, Campbell High\, 925 Powder Springs Street SE\, Smyrna\, Georgia
END:VEVENT
BEGIN:VEVENT
DTSTART;TZID=America/New_York:20241122T083000
DTEND;TZID=America/New_York:20241122T100000
DTSTAMP:20260423T185242
CREATED:20241028T160808Z
LAST-MODIFIED:20241028T160808Z
UID:532-1732264200-1732269600@callisfoundation.org
SUMMARY:Thanksgiving Holiday Family Distribution
DESCRIPTION:Thanksgiving Holiday Family Distribution
URL:https://callisfoundation.org/event/thanksgiving-holiday-family-distribution-2/
LOCATION:International Academy of Smyrna\, 2144 S Cobb Dr SE\, Smyrna\, GA\, 30080\, United States
END:VEVENT
BEGIN:VEVENT
DTSTART;TZID=America/New_York:20241121T153000
DTEND;TZID=America/New_York:20241121T170000
DTSTAMP:20260423T185242
CREATED:20241028T160701Z
LAST-MODIFIED:20241028T160701Z
UID:530-1732203000-1732208400@callisfoundation.org
SUMMARY:Thanksgiving Holiday Family Distribution
DESCRIPTION:Thanksgiving Holiday Family Distribution
URL:https://callisfoundation.org/event/thanksgiving-holiday-family-distribution/
LOCATION:International Academy of Smyrna\, 2144 S Cobb Dr SE\, Smyrna\, GA\, 30080\, United States
END:VEVENT
BEGIN:VEVENT
DTSTART;TZID=America/New_York:20241103T160000
DTEND;TZID=America/New_York:20241103T180000
DTSTAMP:20260423T185242
CREATED:20240925T120405Z
LAST-MODIFIED:20240925T120548Z
UID:505-1730649600-1730656800@callisfoundation.org
SUMMARY:Teenage Pregnancy Prevention & Male Responsibility
DESCRIPTION:
URL:https://callisfoundation.org/event/teenage-pregnancy-prevention-male-responsibility/
LOCATION:Osborn High School\, 2451 Favor Rd SW\, Marietta\, 30060\, United States
END:VEVENT
BEGIN:VEVENT
DTSTART;TZID=America/New_York:20241027T160000
DTEND;TZID=America/New_York:20241027T180000
DTSTAMP:20260423T185242
CREATED:20240925T120845Z
LAST-MODIFIED:20240925T120845Z
UID:510-1730044800-1730052000@callisfoundation.org
SUMMARY:Your Brand and Interviewing
DESCRIPTION:
URL:https://callisfoundation.org/event/your-brand-and-interviewing/
LOCATION:Osborn High School\, 2451 Favor Rd SW\, Marietta\, 30060\, United States
END:VEVENT
BEGIN:VEVENT
DTSTART;TZID=America/New_York:20241021T090000
DTEND;TZID=America/New_York:20241021T100000
DTSTAMP:20260423T185242
CREATED:20241010T025909Z
LAST-MODIFIED:20241010T025909Z
UID:521-1729501200-1729504800@callisfoundation.org
SUMMARY:International Academy of Smyrna Service Initiative
DESCRIPTION:International Academy of Smyrna Service Initiative
URL:https://callisfoundation.org/event/international-academy-of-smyrna-service-initiative/
LOCATION:International Academy of Smyrna\, 2144 S Cobb Dr SE\, Smyrna\, GA\, 30080\, United States
END:VEVENT
BEGIN:VEVENT
DTSTART;TZID=America/New_York:20241013T160000
DTEND;TZID=America/New_York:20241013T180000
DTSTAMP:20260423T185242
CREATED:20240925T120931Z
LAST-MODIFIED:20240925T120931Z
UID:512-1728835200-1728842400@callisfoundation.org
SUMMARY:Career Destination
DESCRIPTION:
URL:https://callisfoundation.org/event/career-destination/
LOCATION:Osborn High School\, 2451 Favor Rd SW\, Marietta\, 30060\, United States
END:VEVENT
BEGIN:VEVENT
DTSTART;TZID=UTC:20240913T083000
DTEND;TZID=UTC:20240913T150000
DTSTAMP:20260423T185242
CREATED:20240314T203546Z
LAST-MODIFIED:20240710T154557Z
UID:119-1726216200-1726239600@callisfoundation.org
SUMMARY:The Ervin Keith Hollman Memorial Scholarship Golf Classic
DESCRIPTION:The HAC Foundation Scholarship Golf Tournament promises to be an exciting event with contests and fun for golfers of all skill levels. Gifts and prizes will be awarded for these contests and more! \n\nTop 3 Winning Teams\nHighest Scoring Team\nPutting Contest\nClosest-to-the-Pin\nLongest Drive\nHole-in-One\nSilent Auction and Raffle\n\nTo donate a gift\, product or service for the auction or raffle\, please email: Golf@CallisFoundation.com
URL:https://callisfoundation.org/event/the-ervin-keith-hollman-memorial-scholarship-golf-classic/
LOCATION:Cobblestone Golf Club\, 4200 Nance Road\, Atlanta\, Georgia\, 30101
END:VEVENT
BEGIN:VEVENT
DTSTART;TZID=America/New_York:20240825T160000
DTEND;TZID=America/New_York:20240825T180000
DTSTAMP:20260423T185242
CREATED:20240710T154809Z
LAST-MODIFIED:20240710T154809Z
UID:433-1724601600-1724608800@callisfoundation.org
SUMMARY:YTM 24/25 Informational Session
DESCRIPTION:
URL:https://callisfoundation.org/event/ytm-24-25-informational-session/
LOCATION:GA
END:VEVENT
END:VCALENDAR