BEGIN:VCALENDAR
VERSION:2.0
PRODID:-//HAC Education Foundation - ECPv6.15.20//NONSGML v1.0//EN
CALSCALE:GREGORIAN
METHOD:PUBLISH
X-ORIGINAL-URL:https://callisfoundation.org
X-WR-CALDESC:Events for HAC Education Foundation
REFRESH-INTERVAL;VALUE=DURATION:PT1H
X-Robots-Tag:noindex
X-PUBLISHED-TTL:PT1H
BEGIN:VTIMEZONE
TZID:UTC
BEGIN:STANDARD
TZOFFSETFROM:+0000
TZOFFSETTO:+0000
TZNAME:UTC
DTSTART:20230101T000000
END:STANDARD
END:VTIMEZONE
BEGIN:VEVENT
DTSTART;VALUE=DATE:20240602
DTEND;VALUE=DATE:20240616
DTSTAMP:20260424T211657
CREATED:20240320T164429Z
LAST-MODIFIED:20240320T164429Z
UID:274-1717286400-1718495999@callisfoundation.org
SUMMARY:Youth To Men Summer Institute - Tuskegee University
DESCRIPTION:
URL:https://callisfoundation.org/event/youth-to-men-summer-institute-tuskegee-university/
LOCATION:Tuskegee University\, 1200 W. Montgomery Rd\, Tuskegee\, AL\, 36088\, United States
END:VEVENT
END:VCALENDAR