BEGIN:VCALENDAR
VERSION:2.0
PRODID:-//HAC Education Foundation - ECPv6.15.20//NONSGML v1.0//EN
CALSCALE:GREGORIAN
METHOD:PUBLISH
X-WR-CALNAME:HAC Education Foundation
X-ORIGINAL-URL:https://callisfoundation.org
X-WR-CALDESC:Events for HAC Education Foundation
REFRESH-INTERVAL;VALUE=DURATION:PT1H
X-Robots-Tag:noindex
X-PUBLISHED-TTL:PT1H
BEGIN:VTIMEZONE
TZID:UTC
BEGIN:STANDARD
TZOFFSETFROM:+0000
TZOFFSETTO:+0000
TZNAME:UTC
DTSTART:20230101T000000
END:STANDARD
END:VTIMEZONE
BEGIN:VEVENT
DTSTART;TZID=UTC:20240420T080000
DTEND;TZID=UTC:20240420T120000
DTSTAMP:20260425T002304
CREATED:20240320T163819Z
LAST-MODIFIED:20240418T130702Z
UID:262-1713600000-1713614400@callisfoundation.org
SUMMARY:Willie Hill Park Cleanup
DESCRIPTION:
URL:https://callisfoundation.org/event/willie-hill-park-cleanup/
LOCATION:Zion Missionary Baptist Church\, 165 Lemon St NE\, Marietta\, GA\, 30060\, United States
END:VEVENT
END:VCALENDAR